BEGIN:VCALENDAR
VERSION:2.0
PRODID:-//Mosaik Kultur- und Bildungsverein - ECPv6.15.20//NONSGML v1.0//EN
CALSCALE:GREGORIAN
METHOD:PUBLISH
X-WR-CALNAME:Mosaik Kultur- und Bildungsverein
X-ORIGINAL-URL:https://www.mosaikverein.ch
X-WR-CALDESC:Events for Mosaik Kultur- und Bildungsverein
REFRESH-INTERVAL;VALUE=DURATION:PT1H
X-Robots-Tag:noindex
X-PUBLISHED-TTL:PT1H
BEGIN:VTIMEZONE
TZID:Europe/Paris
BEGIN:DAYLIGHT
TZOFFSETFROM:+0100
TZOFFSETTO:+0200
TZNAME:CEST
DTSTART:20220327T010000
END:DAYLIGHT
BEGIN:STANDARD
TZOFFSETFROM:+0200
TZOFFSETTO:+0100
TZNAME:CET
DTSTART:20221030T010000
END:STANDARD
BEGIN:DAYLIGHT
TZOFFSETFROM:+0100
TZOFFSETTO:+0200
TZNAME:CEST
DTSTART:20230326T010000
END:DAYLIGHT
BEGIN:STANDARD
TZOFFSETFROM:+0200
TZOFFSETTO:+0100
TZNAME:CET
DTSTART:20231029T010000
END:STANDARD
BEGIN:DAYLIGHT
TZOFFSETFROM:+0100
TZOFFSETTO:+0200
TZNAME:CEST
DTSTART:20240331T010000
END:DAYLIGHT
BEGIN:STANDARD
TZOFFSETFROM:+0200
TZOFFSETTO:+0100
TZNAME:CET
DTSTART:20241027T010000
END:STANDARD
END:VTIMEZONE
BEGIN:VEVENT
DTSTART;TZID=Europe/Paris:20231020T183000
DTEND;TZID=Europe/Paris:20231020T213000
DTSTAMP:20260426T061911
CREATED:20221020T102353Z
LAST-MODIFIED:20251029T203946Z
UID:3013-1697826600-1697837400@www.mosaikverein.ch
SUMMARY:Christlich-Muslimische Gesprächsgruppe
DESCRIPTION:Wir treffen uns einmal im Monat im Mosaik Verein und diskutieren über Gott und die Welt. \nEs werden Christliche und Muslimische Sichtweisen zum Thema erläutert und darüber debattiert. Das Niveau ist bewusst nicht akademisch gehalten. Die Themen für das Treffen vom nächsten Mal bestimmen wir gemeinsam und bereiten uns darauf vor. \nEs wird diskutiert\, über den Alltag gesprochen\, Tee/Kaffee getrunken und eventuell etwas dazu gegessen. \nDie Atmosphäre ist einladend und wir sind offen für alle neuen Interessenten. \nDas Diskussionsthema am 20. Oktober 2023: \n\n\nGebet für das Frieden auf der Welt.\nWeitere Themen sind noch zu definiren.\n\nAblauf vom Abend \n\nDiskussionen über alltägliche Sachen.\nEssen von Zubereitetem\, kleine Überraschungen.\nDas Gespräch über das ausgewählte Thema.\n\n\nInteressiert? Sende eine Email an: admin@mosaikverein.ch \nMosaik Team
URL:https://www.mosaikverein.ch/event/christlich-muslimische-gesprachsgruppe-2-2-2-3-2/
LOCATION:Mosaik Kultur- und Bildungsverein\, Frankenstrasse 70\, Bern\, Bern\, 3018\, Switzerland
CATEGORIES:Christlich-Muslimische Gesprächsgruppe,Gesprächsgruppe,Gesprächskreis,Mosaik Verein
ORGANIZER;CN="Mosaik Kultur- und Bildungsverein":MAILTO:admin@mosaikverein.ch
END:VEVENT
END:VCALENDAR