BEGIN:VCALENDAR
VERSION:2.0
PRODID:-//Mosaik Kultur- und Bildungsverein - ECPv6.15.20//NONSGML v1.0//EN
CALSCALE:GREGORIAN
METHOD:PUBLISH
X-ORIGINAL-URL:https://www.mosaikverein.ch
X-WR-CALDESC:Events for Mosaik Kultur- und Bildungsverein
REFRESH-INTERVAL;VALUE=DURATION:PT1H
X-Robots-Tag:noindex
X-PUBLISHED-TTL:PT1H
BEGIN:VTIMEZONE
TZID:Europe/Paris
BEGIN:DAYLIGHT
TZOFFSETFROM:+0100
TZOFFSETTO:+0200
TZNAME:CEST
DTSTART:20220327T010000
END:DAYLIGHT
BEGIN:STANDARD
TZOFFSETFROM:+0200
TZOFFSETTO:+0100
TZNAME:CET
DTSTART:20221030T010000
END:STANDARD
BEGIN:DAYLIGHT
TZOFFSETFROM:+0100
TZOFFSETTO:+0200
TZNAME:CEST
DTSTART:20230326T010000
END:DAYLIGHT
BEGIN:STANDARD
TZOFFSETFROM:+0200
TZOFFSETTO:+0100
TZNAME:CET
DTSTART:20231029T010000
END:STANDARD
BEGIN:DAYLIGHT
TZOFFSETFROM:+0100
TZOFFSETTO:+0200
TZNAME:CEST
DTSTART:20240331T010000
END:DAYLIGHT
BEGIN:STANDARD
TZOFFSETFROM:+0200
TZOFFSETTO:+0100
TZNAME:CET
DTSTART:20241027T010000
END:STANDARD
END:VTIMEZONE
BEGIN:VEVENT
DTSTART;TZID=Europe/Paris:20230324T180000
DTEND;TZID=Europe/Paris:20230324T210000
DTSTAMP:20260426T023024
CREATED:20230220T101113Z
LAST-MODIFIED:20251029T204251Z
UID:3155-1679680800-1679691600@www.mosaikverein.ch
SUMMARY:Referat von Prof. Dr. Jon Pahl und  Fastenbrechenessen am Freitag\, 24. März 2023
DESCRIPTION:Wir freuen uns\, Sie zu einer besonderen Veranstaltung einladen zu dürfen: Am 24. März wird der amerikanische\nTheologe Prof. Dr. Jon Pahl in Bern sein Biografie-Buch über Fethullah Gülen vorstellen. \nDer Kulturverein Mosaik engagiert sich für die Integration von Migranten:innen und Geflüchteten und leistet\neinen Beitrag zu einem friedlichen Zusammenleben in Bern. Wir unterstützen Familien unter anderem aus dem\nBalkan und der Türkei sowie aus verschiedenen arabischen und afrikanischen Ländern. \nSeit einigen Jahren betreuen wir über hundert anerkannte Flüchtlingsfamilien aus der Türkei\, die der Hizmet-Bewegung (auch\nGülen-Bewegung genannt) angehören und in der Schweiz eine neue Heimat gefunden haben. Dies ist der Grund\,\nweshalb wir uns zu dieser Lesung entschlossen haben.
URL:https://www.mosaikverein.ch/event/referat-von-prof-dr-jon-pahl-und-fastenbrechenessen-am-freitag-24-marz-2023/
LOCATION:Grosser Saal\, Reformierte Kirche\, Bern Bümpliz\, Bernstrasse 85\, Bern\, 3018\, Switzerland
CATEGORIES:Hizmet-Bewegung,Mosaik Verein
ORGANIZER;CN="Mosaik Kultur- und Bildungsverein":MAILTO:admin@mosaikverein.ch
END:VEVENT
END:VCALENDAR