BEGIN:VCALENDAR
VERSION:2.0
PRODID:-//Mosaik Kultur- und Bildungsverein - ECPv6.15.20//NONSGML v1.0//EN
CALSCALE:GREGORIAN
METHOD:PUBLISH
X-WR-CALNAME:Mosaik Kultur- und Bildungsverein
X-ORIGINAL-URL:https://www.mosaikverein.ch
X-WR-CALDESC:Events for Mosaik Kultur- und Bildungsverein
REFRESH-INTERVAL;VALUE=DURATION:PT1H
X-Robots-Tag:noindex
X-PUBLISHED-TTL:PT1H
BEGIN:VTIMEZONE
TZID:Europe/Berlin
BEGIN:DAYLIGHT
TZOFFSETFROM:+0100
TZOFFSETTO:+0200
TZNAME:CEST
DTSTART:20210328T010000
END:DAYLIGHT
BEGIN:STANDARD
TZOFFSETFROM:+0200
TZOFFSETTO:+0100
TZNAME:CET
DTSTART:20211031T010000
END:STANDARD
BEGIN:DAYLIGHT
TZOFFSETFROM:+0100
TZOFFSETTO:+0200
TZNAME:CEST
DTSTART:20220327T010000
END:DAYLIGHT
BEGIN:STANDARD
TZOFFSETFROM:+0200
TZOFFSETTO:+0100
TZNAME:CET
DTSTART:20221030T010000
END:STANDARD
BEGIN:DAYLIGHT
TZOFFSETFROM:+0100
TZOFFSETTO:+0200
TZNAME:CEST
DTSTART:20230326T010000
END:DAYLIGHT
BEGIN:STANDARD
TZOFFSETFROM:+0200
TZOFFSETTO:+0100
TZNAME:CET
DTSTART:20231029T010000
END:STANDARD
END:VTIMEZONE
BEGIN:VTIMEZONE
TZID:Europe/Paris
BEGIN:DAYLIGHT
TZOFFSETFROM:+0100
TZOFFSETTO:+0200
TZNAME:CEST
DTSTART:20210328T010000
END:DAYLIGHT
BEGIN:STANDARD
TZOFFSETFROM:+0200
TZOFFSETTO:+0100
TZNAME:CET
DTSTART:20211031T010000
END:STANDARD
BEGIN:DAYLIGHT
TZOFFSETFROM:+0100
TZOFFSETTO:+0200
TZNAME:CEST
DTSTART:20220327T010000
END:DAYLIGHT
BEGIN:STANDARD
TZOFFSETFROM:+0200
TZOFFSETTO:+0100
TZNAME:CET
DTSTART:20221030T010000
END:STANDARD
BEGIN:DAYLIGHT
TZOFFSETFROM:+0100
TZOFFSETTO:+0200
TZNAME:CEST
DTSTART:20230326T010000
END:DAYLIGHT
BEGIN:STANDARD
TZOFFSETFROM:+0200
TZOFFSETTO:+0100
TZNAME:CET
DTSTART:20231029T010000
END:STANDARD
END:VTIMEZONE
BEGIN:VEVENT
DTSTART;TZID=Europe/Berlin:20220910T130000
DTEND;TZID=Europe/Berlin:20220910T150000
DTSTAMP:20260425T174212
CREATED:20220525T180259Z
LAST-MODIFIED:20220525T180259Z
UID:2925-1662814800-1662822000@www.mosaikverein.ch
SUMMARY:IT for Girls & for Boys
DESCRIPTION:Um das Thema Informatik\, digitale Welt an Mädchen und natürlich auch Buben näherzubringen\, haben wir das Projekt “IT for Girls & Boys” lanciert. \nDie erste Klasse läuft schon und wir sind gerade dran\, die zweite Klasse vorzubereiten. \nWo: Mosaik Verein\, Frankenstrasse 70\, 3018 Bern\nWann: Aktuell findet der Kurs am Samstag zwischen 13:00 – 15:00 statt
URL:https://www.mosaikverein.ch/event/it-for-girls-for-boys-2-2-2-2-2-2/
LOCATION:Mosaik Kultur- und Bildungsverein\, Frankenstrasse 70\, Bern\, Bern\, 3018\, Switzerland
CATEGORIES:IT for Girls,Mosaik Verein
ATTACH;FMTTYPE=image/png:https://www.mosaikverein.ch/wp-content/uploads/2022/05/2022-05-25-19_40_46-_C__Users_AhmetSait_OneDrive_Documents_Mosaik_mosaikverein.ch_images_itforgirls_-1.png
ORGANIZER;CN="Mosaik Kultur- und Bildungsverein":MAILTO:admin@mosaikverein.ch
END:VEVENT
BEGIN:VEVENT
DTSTART;TZID=Europe/Paris:20220910T130000
DTEND;TZID=Europe/Paris:20220910T150000
DTSTAMP:20260425T174212
CREATED:20220525T180259Z
LAST-MODIFIED:20251029T204402Z
UID:3112-1662814800-1662822000@www.mosaikverein.ch
SUMMARY:IT for Girls & for Boys
DESCRIPTION:Um das Thema Informatik\, digitale Welt an Mädchen und natürlich auch Buben näherzubringen\, haben wir das Projekt “IT for Girls & Boys” lanciert. \nDie erste Klasse läuft schon und wir sind gerade dran\, die zweite Klasse vorzubereiten. \nWo: Mosaik Verein\, Frankenstrasse 70\, 3018 Bern\nWann: Aktuell findet der Kurs am Samstag zwischen 13:00 – 15:00 statt
URL:https://www.mosaikverein.ch/event/it-for-girls-for-boys-2-2-2-2-2-2-2/
LOCATION:Mosaik Kultur- und Bildungsverein\, Frankenstrasse 70\, Bern\, Bern\, 3018\, Switzerland
CATEGORIES:IT for Girls,Mosaik Verein
ATTACH;FMTTYPE=image/png:https://www.mosaikverein.ch/wp-content/uploads/2022/05/2022-05-25-19_40_46-_C__Users_AhmetSait_OneDrive_Documents_Mosaik_mosaikverein.ch_images_itforgirls_-1.png
ORGANIZER;CN="Mosaik Kultur- und Bildungsverein":MAILTO:admin@mosaikverein.ch
END:VEVENT
BEGIN:VEVENT
DTSTART;TZID=Europe/Paris:20220827T130000
DTEND;TZID=Europe/Paris:20220827T150000
DTSTAMP:20260425T174212
CREATED:20220525T180234Z
LAST-MODIFIED:20251029T204416Z
UID:2923-1661605200-1661612400@www.mosaikverein.ch
SUMMARY:IT for Girls & for Boys
DESCRIPTION:Um das Thema Informatik\, digitale Welt an Mädchen und natürlich auch Buben näherzubringen\, haben wir das Projekt “IT for Girls & Boys” lanciert. \nDie erste Klasse läuft schon und wir sind gerade dran\, die zweite Klasse vorzubereiten. \nWo: Mosaik Verein\, Frankenstrasse 70\, 3018 Bern\nWann: Aktuell findet der Kurs am Samstag zwischen 13:00 – 15:00 statt
URL:https://www.mosaikverein.ch/event/it-for-girls-for-boys-2-2-2-2-2/
LOCATION:Mosaik Kultur- und Bildungsverein\, Frankenstrasse 70\, Bern\, Bern\, 3018\, Switzerland
CATEGORIES:IT for Girls,Mosaik Verein
ATTACH;FMTTYPE=image/png:https://www.mosaikverein.ch/wp-content/uploads/2022/05/2022-05-25-19_40_46-_C__Users_AhmetSait_OneDrive_Documents_Mosaik_mosaikverein.ch_images_itforgirls_-1.png
ORGANIZER;CN="Mosaik Kultur- und Bildungsverein":MAILTO:admin@mosaikverein.ch
END:VEVENT
BEGIN:VEVENT
DTSTART;TZID=Europe/Paris:20220827T130000
DTEND;TZID=Europe/Paris:20220827T150000
DTSTAMP:20260425T174212
CREATED:20220525T180234Z
LAST-MODIFIED:20251029T204429Z
UID:3111-1661605200-1661612400@www.mosaikverein.ch
SUMMARY:IT for Girls & for Boys
DESCRIPTION:Um das Thema Informatik\, digitale Welt an Mädchen und natürlich auch Buben näherzubringen\, haben wir das Projekt “IT for Girls & Boys” lanciert. \nDie erste Klasse läuft schon und wir sind gerade dran\, die zweite Klasse vorzubereiten. \nWo: Mosaik Verein\, Frankenstrasse 70\, 3018 Bern\nWann: Aktuell findet der Kurs am Samstag zwischen 13:00 – 15:00 statt
URL:https://www.mosaikverein.ch/event/it-for-girls-for-boys-2-2-2-2-2-3/
LOCATION:Mosaik Kultur- und Bildungsverein\, Frankenstrasse 70\, Bern\, Bern\, 3018\, Switzerland
CATEGORIES:IT for Girls,Mosaik Verein
ATTACH;FMTTYPE=image/png:https://www.mosaikverein.ch/wp-content/uploads/2022/05/2022-05-25-19_40_46-_C__Users_AhmetSait_OneDrive_Documents_Mosaik_mosaikverein.ch_images_itforgirls_-1.png
ORGANIZER;CN="Mosaik Kultur- und Bildungsverein":MAILTO:admin@mosaikverein.ch
END:VEVENT
BEGIN:VEVENT
DTSTART;TZID=Europe/Berlin:20220813T130000
DTEND;TZID=Europe/Berlin:20220813T150000
DTSTAMP:20260425T174212
CREATED:20220525T180210Z
LAST-MODIFIED:20220525T180210Z
UID:2921-1660395600-1660402800@www.mosaikverein.ch
SUMMARY:IT for Girls & for Boys
DESCRIPTION:Um das Thema Informatik und die digitale Welt den Mädchen und natürlich auch den Buben näherzubringen\, haben wir das Projekt “IT for Girls & Boys” lanciert. \nDie erste Klasse läuft schon und wir sind gerade dran\, die zweite Klasse vorzubereiten. \nWo: Mosaik Verein\, Frankenstrasse 70\, 3018 Bern\nWann: Aktuell findet der Kurs am Samstag zwischen 13:00 – 15:00 statt
URL:https://www.mosaikverein.ch/event/it-for-girls-for-boys-2-2-2-2/
LOCATION:Mosaik Kultur- und Bildungsverein\, Frankenstrasse 70\, Bern\, Bern\, 3018\, Switzerland
CATEGORIES:IT for Girls,Mosaik Verein
ATTACH;FMTTYPE=image/png:https://www.mosaikverein.ch/wp-content/uploads/2022/05/2022-05-25-19_40_46-_C__Users_AhmetSait_OneDrive_Documents_Mosaik_mosaikverein.ch_images_itforgirls_-1.png
ORGANIZER;CN="Mosaik Kultur- und Bildungsverein":MAILTO:admin@mosaikverein.ch
END:VEVENT
BEGIN:VEVENT
DTSTART;TZID=Europe/Berlin:20220702T130000
DTEND;TZID=Europe/Berlin:20220702T150000
DTSTAMP:20260425T174212
CREATED:20220525T175139Z
LAST-MODIFIED:20220525T175139Z
UID:2919-1656766800-1656774000@www.mosaikverein.ch
SUMMARY:IT for Girls & for Boys
DESCRIPTION:Um das Thema Informatik\, digitale Welt an Mädchen und natürlich auch Buben näherzubringen\, haben wir das Projekt “IT for Girls & Boys” lanciert. \nDie erste Klasse läuft schon und wir sind gerade dran\, die zweite Klasse vorzubereiten. \nWo: Mosaik Verein\, Frankenstrasse 70\, 3018 Bern\nWann: Aktuell findet der Kurs am Samstag zwischen 13:00 – 15:00 statt
URL:https://www.mosaikverein.ch/event/it-for-girls-for-boys-2-2-2/
LOCATION:Mosaik Kultur- und Bildungsverein\, Frankenstrasse 70\, Bern\, Bern\, 3018\, Switzerland
CATEGORIES:IT for Girls,Mosaik Verein
ATTACH;FMTTYPE=image/png:https://www.mosaikverein.ch/wp-content/uploads/2022/05/2022-05-25-19_40_46-_C__Users_AhmetSait_OneDrive_Documents_Mosaik_mosaikverein.ch_images_itforgirls_-1.png
ORGANIZER;CN="Mosaik Kultur- und Bildungsverein":MAILTO:admin@mosaikverein.ch
END:VEVENT
BEGIN:VEVENT
DTSTART;TZID=Europe/Berlin:20220618T130000
DTEND;TZID=Europe/Berlin:20220618T150000
DTSTAMP:20260425T174212
CREATED:20220525T174958Z
LAST-MODIFIED:20220525T174958Z
UID:2917-1655557200-1655564400@www.mosaikverein.ch
SUMMARY:IT for Girls & for Boys
DESCRIPTION:Um das Thema Informatik und die digitale Welt den Mädchen und natürlich auch den Buben näherzubringen\, haben wir das Projekt “IT for Girls & Boys” lanciert. \nDie erste Klasse läuft schon und wir sind gerade dran\, die zweite Klasse vorzubereiten. \nWo: Mosaik Verein\, Frankenstrasse 70\, 3018 Bern\nWann: Aktuell findet der Kurs am Samstag zwischen 13:00 – 15:00 statt
URL:https://www.mosaikverein.ch/event/it-for-girls-for-boys-2-2/
LOCATION:Mosaik Kultur- und Bildungsverein\, Frankenstrasse 70\, Bern\, Bern\, 3018\, Switzerland
CATEGORIES:IT for Girls,Mosaik Verein
ATTACH;FMTTYPE=image/png:https://www.mosaikverein.ch/wp-content/uploads/2022/05/2022-05-25-19_40_46-_C__Users_AhmetSait_OneDrive_Documents_Mosaik_mosaikverein.ch_images_itforgirls_-1.png
ORGANIZER;CN="Mosaik Kultur- und Bildungsverein":MAILTO:admin@mosaikverein.ch
END:VEVENT
BEGIN:VEVENT
DTSTART;TZID=Europe/Berlin:20220604T130000
DTEND;TZID=Europe/Berlin:20220604T150000
DTSTAMP:20260425T174212
CREATED:20220525T174829Z
LAST-MODIFIED:20220525T174829Z
UID:2915-1654347600-1654354800@www.mosaikverein.ch
SUMMARY:IT for Girls & for Boys
DESCRIPTION:Um das Thema Informatik\, digitale Welt an Mädchen und natürlich auch Buben näherzubringen\, haben wir das Projekt “IT for Girls & Boys” lanciert. \nDie erste Klasse läuft schon und wir sind gerade dran\, die zweite Klasse vorzubereiten. \nWo: Mosaik Verein\, Frankenstrasse 70\, 3018 Bern\nWann: Aktuell findet der Kurs am Samstag zwischen 13:00 – 15:00 statt
URL:https://www.mosaikverein.ch/event/it-for-girls-for-boys-2/
LOCATION:Mosaik Kultur- und Bildungsverein\, Frankenstrasse 70\, Bern\, Bern\, 3018\, Switzerland
CATEGORIES:IT for Girls,Mosaik Verein
ATTACH;FMTTYPE=image/png:https://www.mosaikverein.ch/wp-content/uploads/2022/05/2022-05-25-19_40_46-_C__Users_AhmetSait_OneDrive_Documents_Mosaik_mosaikverein.ch_images_itforgirls_-1.png
ORGANIZER;CN="Mosaik Kultur- und Bildungsverein":MAILTO:admin@mosaikverein.ch
END:VEVENT
BEGIN:VEVENT
DTSTART;TZID=Europe/Berlin:20220521T130000
DTEND;TZID=Europe/Berlin:20220521T150000
DTSTAMP:20260425T174212
CREATED:20220525T174704Z
LAST-MODIFIED:20220525T174704Z
UID:2911-1653138000-1653145200@www.mosaikverein.ch
SUMMARY:IT for Girls & for Boys
DESCRIPTION:Um das Thema Informatik\, digitale Welt an Mädchen und natürlich auch Buben näherzubringen\, haben wir das Projekt “IT for Girls & Boys” lanciert. \nDie erste Klasse läuft schon und wir sind gerade dran\, die zweite Klasse vorzubereiten. \nWo: Mosaik Verein\, Frankenstrasse 70\, 3018 Bern\nWann: Aktuell findet der Kurs am Samstag zwischen 13:00 – 15:00 statt
URL:https://www.mosaikverein.ch/event/it-for-girls-for-boys/
LOCATION:Mosaik Kultur- und Bildungsverein\, Frankenstrasse 70\, Bern\, Bern\, 3018\, Switzerland
CATEGORIES:IT for Girls,Mosaik Verein
ATTACH;FMTTYPE=image/png:https://www.mosaikverein.ch/wp-content/uploads/2022/05/2022-05-25-19_40_46-_C__Users_AhmetSait_OneDrive_Documents_Mosaik_mosaikverein.ch_images_itforgirls_-1.png
ORGANIZER;CN="Mosaik Kultur- und Bildungsverein":MAILTO:admin@mosaikverein.ch
END:VEVENT
END:VCALENDAR